BEGIN:VCALENDAR
VERSION:2.0
PRODID:-//Afrikalinks - ECPv6.15.20//NONSGML v1.0//EN
CALSCALE:GREGORIAN
METHOD:PUBLISH
X-WR-CALNAME:Afrikalinks
X-ORIGINAL-URL:https://afrikalinks.nl
X-WR-CALDESC:Evenementen voor Afrikalinks
REFRESH-INTERVAL;VALUE=DURATION:PT1H
X-Robots-Tag:noindex
X-PUBLISHED-TTL:PT1H
BEGIN:VTIMEZONE
TZID:Europe/Amsterdam
BEGIN:DAYLIGHT
TZOFFSETFROM:+0100
TZOFFSETTO:+0200
TZNAME:CEST
DTSTART:20190331T010000
END:DAYLIGHT
BEGIN:STANDARD
TZOFFSETFROM:+0200
TZOFFSETTO:+0100
TZNAME:CET
DTSTART:20191027T010000
END:STANDARD
BEGIN:DAYLIGHT
TZOFFSETFROM:+0100
TZOFFSETTO:+0200
TZNAME:CEST
DTSTART:20200329T010000
END:DAYLIGHT
BEGIN:STANDARD
TZOFFSETFROM:+0200
TZOFFSETTO:+0100
TZNAME:CET
DTSTART:20201025T010000
END:STANDARD
BEGIN:DAYLIGHT
TZOFFSETFROM:+0100
TZOFFSETTO:+0200
TZNAME:CEST
DTSTART:20210328T010000
END:DAYLIGHT
BEGIN:STANDARD
TZOFFSETFROM:+0200
TZOFFSETTO:+0100
TZNAME:CET
DTSTART:20211031T010000
END:STANDARD
END:VTIMEZONE
BEGIN:VEVENT
DTSTART;TZID=Europe/Amsterdam:20200315T150000
DTEND;TZID=Europe/Amsterdam:20200315T163000
DTSTAMP:20260422T031247
CREATED:20200310T194239Z
LAST-MODIFIED:20200310T194239Z
UID:367396-1584284400-1584289800@afrikalinks.nl
SUMMARY:Ibou\, Maringo & Friends
DESCRIPTION:Een mooie mix van Djembé\, gitaar\, zang.\nNet terug van muziek maken in Senegal\, komen ze straks bij ons spelen!\nHelemaal de moeite waard. Kom lekker meegenieten van de akoestische wereld muziek bij de Boshalte in het Winterpaviljoen.\nTot dan!
URL:https://afrikalinks.nl/evenementen/ibou-maringo-friends/
LOCATION:Stichting De Boshalte\, bosbaanweg 1\, Amsterdam\, 1182AD\, NL
CATEGORIES:Concerten
ATTACH;FMTTYPE=image/jpeg:https://afrikalinks.nl/wp-content/uploads/2020/03/367396_image_84414908_2662456387201634_321626989578420224_n.jpg
END:VEVENT
END:VCALENDAR