BEGIN:VCALENDAR
VERSION:2.0
PRODID:-//Afrikalinks - ECPv6.15.20//NONSGML v1.0//EN
CALSCALE:GREGORIAN
METHOD:PUBLISH
X-ORIGINAL-URL:https://afrikalinks.nl
X-WR-CALDESC:Evenementen voor Afrikalinks
REFRESH-INTERVAL;VALUE=DURATION:PT1H
X-Robots-Tag:noindex
X-PUBLISHED-TTL:PT1H
BEGIN:VTIMEZONE
TZID:Europe/Amsterdam
BEGIN:DAYLIGHT
TZOFFSETFROM:+0100
TZOFFSETTO:+0200
TZNAME:CEST
DTSTART:20190331T010000
END:DAYLIGHT
BEGIN:STANDARD
TZOFFSETFROM:+0200
TZOFFSETTO:+0100
TZNAME:CET
DTSTART:20191027T010000
END:STANDARD
BEGIN:DAYLIGHT
TZOFFSETFROM:+0100
TZOFFSETTO:+0200
TZNAME:CEST
DTSTART:20200329T010000
END:DAYLIGHT
BEGIN:STANDARD
TZOFFSETFROM:+0200
TZOFFSETTO:+0100
TZNAME:CET
DTSTART:20201025T010000
END:STANDARD
BEGIN:DAYLIGHT
TZOFFSETFROM:+0100
TZOFFSETTO:+0200
TZNAME:CEST
DTSTART:20210328T010000
END:DAYLIGHT
BEGIN:STANDARD
TZOFFSETFROM:+0200
TZOFFSETTO:+0100
TZNAME:CET
DTSTART:20211031T010000
END:STANDARD
END:VTIMEZONE
BEGIN:VEVENT
DTSTART;TZID=Europe/Amsterdam:20200313T230000
DTEND;TZID=Europe/Amsterdam:20200314T063000
DTSTAMP:20260422T025913
CREATED:20200309T233544Z
LAST-MODIFIED:20200309T233544Z
UID:367304-1584140400-1584167400@afrikalinks.nl
SUMMARY:DIAMOND PLATNUMZ • Showcase • Claridge • THIS FRIDAY
DESCRIPTION:THE AFROBEATS HIT MAKER DIAMOND PLATNUMZ IS COMING TO BELGIUM FOR AN EXCLUSIVE SHOWCASE AT Claridge Events. \nGET READY FOR SOMETHING LEGENDARY !!! \n? ====> https://urlz.fr/bOte \ntable booking & enquiries +32 470 10 23 93\n•••••••••••••••••••••••••••••••••••••••••••••••••• \nDIAMOND PLATNUMZ FT FALLY IPUPA – INAMA \n \nDIAMOND PLATNUMZ FT INNOS’B – YO PE \n \nDIAMOND PLATNUMZ FT RAYVANNI – TETAMA \n \nDIAMOND PLATNUMZ FT YA LEVIS – PENZI \n \nDIAMOND PLATNUMZ  FT OMARION  – AFRICAN BEAUTY \n \n•••••••••••••••••LINE UP••••••••••••••••••••• \nBeba Storm (Dyoukes resident) \nMaster Dream ( HEAVEN) \nSaidou (Dyoukes) \nDjy Abena
URL:https://afrikalinks.nl/evenementen/diamond-platnumz-%e2%80%a2-showcase-%e2%80%a2-claridge-%e2%80%a2-this-friday/
LOCATION:Claridge Events\, Chaussée de Louvain 24\, Brussels\, 1210\, BE
CATEGORIES:Concerten
ATTACH;FMTTYPE=image/jpeg:https://afrikalinks.nl/wp-content/uploads/2020/03/367304_image_84684179_192766765443780_936350677808971776_n.jpg
END:VEVENT
END:VCALENDAR