BEGIN:VCALENDAR
VERSION:2.0
PRODID:-//Afrikalinks - ECPv6.15.20//NONSGML v1.0//EN
CALSCALE:GREGORIAN
METHOD:PUBLISH
X-WR-CALNAME:Afrikalinks
X-ORIGINAL-URL:https://afrikalinks.nl
X-WR-CALDESC:Evenementen voor Afrikalinks
REFRESH-INTERVAL;VALUE=DURATION:PT1H
X-Robots-Tag:noindex
X-PUBLISHED-TTL:PT1H
BEGIN:VTIMEZONE
TZID:Europe/Amsterdam
BEGIN:DAYLIGHT
TZOFFSETFROM:+0100
TZOFFSETTO:+0200
TZNAME:CEST
DTSTART:20190331T010000
END:DAYLIGHT
BEGIN:STANDARD
TZOFFSETFROM:+0200
TZOFFSETTO:+0100
TZNAME:CET
DTSTART:20191027T010000
END:STANDARD
BEGIN:DAYLIGHT
TZOFFSETFROM:+0100
TZOFFSETTO:+0200
TZNAME:CEST
DTSTART:20200329T010000
END:DAYLIGHT
BEGIN:STANDARD
TZOFFSETFROM:+0200
TZOFFSETTO:+0100
TZNAME:CET
DTSTART:20201025T010000
END:STANDARD
BEGIN:DAYLIGHT
TZOFFSETFROM:+0100
TZOFFSETTO:+0200
TZNAME:CEST
DTSTART:20210328T010000
END:DAYLIGHT
BEGIN:STANDARD
TZOFFSETFROM:+0200
TZOFFSETTO:+0100
TZNAME:CET
DTSTART:20211031T010000
END:STANDARD
END:VTIMEZONE
BEGIN:VEVENT
DTSTART;TZID=Europe/Amsterdam:20200229T200000
DTEND;TZID=Europe/Amsterdam:20200301T003000
DTSTAMP:20260422T025708
CREATED:20200207T101134Z
LAST-MODIFIED:20200207T101134Z
UID:2973-1583006400-1583022600@afrikalinks.nl
SUMMARY:ZAIKO Langa Langa | Afropolitan Festival 2020
DESCRIPTION:NL⎹ ​​​​​​​​​​​​​​Het meest vermaarde orkest van de Democratische Republiek Congo viert zijn 50ste verjaardag! Geen enkele Congolese band heeft een langere carrière uitgebouwd. \nIn de loop van een halve eeuw intense muzikale activiteit\, wist Zaïko Langa Langa een geheel eigen stijl te ontwikkelen\, die overal herkenbaar is. Die typische “Zaïko-stijl” is een mix van hyperritmische rumba en funk\, en zette menige discotheek in Kinshasa in vuur en vlam. Voor de Congolese jeugd was dit opwindende en bevrijdende muziek. Sinds het orkest op 24 december 1969 zijn eerste noten speelde\, speelden een hele reeks uitzonderlijke muzikanten mee\, zoals Jossart Nyoka Longo\, maar ook Jules Shungu Wembadio Pene Kikumba\, ook gekend als Papa Wemba\, gitarist Pépé Felly Manuaku\, zanger Evoloko Joker Lay Gola en vele anderen. Tijdens deze unieke avond bij BOZAR wordt de charismatische orkestleider Jossart Nyoka Longo – die mee aan de wieg van Zaïko Langa Langa stond – omringd door een twintigtal Congolese muzikale talenten. Dit is een onmisbaar concert voor liefhebbers van swingende ritmes\, in het prachtige kader van de Grote Zaal Henry Le Bœuf van het Brusselse Paleis voor Schone Kunsten.\n_______\nFR⎹ L’orchestre le plus illustre de la République démocratique du Congo fête ses 50 ans ! Il devient dès lors l’orchestre congolais qui bat le record de longévité.  \nAu cours de ce demi-siècle d’activité musicale intense\, Zaïko Langa Langa a forgé son propre style\, reconnaissable entre tous. Le « style Zaïko »\, mélange de rumba hyper rythmée et de funk\, a enflammé les dancings de Kinshasa\, offrant à la jeunesse congolaise une musique jouissive et émancipatoire. Depuis sa création le 24 décembre 1969\, le groupe a accueilli en son sein une série de musiciens extraordinaires\, dont Jossart Nyoka Longo\, mais aussi Jules Shungu Wembadio Pene Kikumba\, dit Papa Wemba\, le guitariste Pépé Felly Manuaku\, le chanteur Evoloko Joker Lay Gola et bien d’autres. À BOZAR\, cette soirée exceptionnelle verra Jossart Nyoka Longo\, leader charismatique et membre fondateur du groupe\, entouré d’une vingtaine de musiciens congolais de talent. Un concert immanquable pour les férus de rythmes chaloupés\, à déguster dans le cadre sublime de la Grande Salle Henry Le Bœuf du Palais des Beaux-Arts de Bruxelles.\n_______\nEN⎹ The Democratic Republic of Congo’s most famous orchestra celebrates its 50th birthday! No other Congolese band comes close in terms of longevity. \nDuring half a century of intense musical activity\, Zaïko Langa Langa has forged its own unique and instantly recognisable style. The ‘Zaïko style’\, a mixture of hyper-beat rumba and funk\, set Kinshasa’s dance halls on fire\, offering Congolese youth a jubilant and liberating musical experience. Since its creation on 24 December 1969\, the group has welcomed a series of extraordinary musicians\, including Jossart Nyoka Longo\, but also Jules Shungu Wembadio Pene Kikumba\, known as Papa Wemba\, guitarist Pépé Felly Manuaku\, singer Evoloko Joker Lay Gola and many others. BOZAR hosts an exceptional evening featuring Jossart Nyoka Longo\, charismatic leader and founding member of the group\, surrounded by some 20 talented Congolese musicians. An unmissable concert for whoever loves swaying rhythms\, to be enjoyed in the sublime setting of the Henry Le Boeuf Hall at the Fine Arts Centre in Brussels.  \nTickets: €50\, €85 (VIP)\n? bit.ly/ZaikoLangaLanga \n#AFROPOLITANFESTIVAL
URL:https://afrikalinks.nl/evenementen/zaiko-langa-langa-afropolitan-festival-2020/
LOCATION:BOZAR\, Rue Ravensteinstraat 23\, Brussels\, 1000\, BE
CATEGORIES:Concerten
ATTACH;FMTTYPE=image/jpeg:https://afrikalinks.nl/wp-content/uploads/2020/02/2973_image_84288229_10157027553867291_9207399190919905280_o.jpg
END:VEVENT
BEGIN:VEVENT
DTSTART;TZID=Europe/Amsterdam:20200301T203000
DTEND;TZID=Europe/Amsterdam:20200301T223000
DTSTAMP:20260422T025708
CREATED:20200223T211955Z
LAST-MODIFIED:20200223T211955Z
UID:366982-1583094600-1583101800@afrikalinks.nl
SUMMARY:Richard Bona met Alfredo Rodríguez & Pedrito Martinez (SOLD OUT)
DESCRIPTION:Topbassist Richard Bona komt terug naar LantarenVenster\, en dit keer samen met niemand minder dan Alfredo Rodríguez\, de “Cubaanse pianowonderboy” (de Volkskrant)\, die ontdekt werd door Quincy Jones. De virtuoze muziek van dit bijzondere duo zal laten zien hoe onlosmakelijk Afrikaanse en Cubaanse muziek met elkaar verbonden zijn. Aan het duo is de Cubaanse percussionist en zanger Pedrito Martinez toegevoegd. \nBona is een van Afrika’s meest veelzijdige muzikanten. Als klein jongetje in Kameroen viel zijn muzikaliteit al op en op zijn dertiende debuteerde hij in een Franse jazzclub. Eenmaal volwassen verhuisde hij naar Europa en later naar New York\, waar hij een vaste waarde in de jazzscene werd\, spelend met Branford Marsalis\, Joe Zawinul en Pat Metheny. Richard wordt geroemd om zijn virtuoze spel\, en vaak vergeleken met Jaco Pastorius. Maar sinds hij zijn debuutalbum uitbracht\, is het ook zijn stem die de aandacht trekt. Bona zingt in zijn moedertaal Duala\, een Kameroens dialect dat opvalt door zijn haast hypnotiserende klanken. Zijn stem versmelt op een meesterlijke wijze met jazz\, bossanova\, pop\, afrobeat\, en funk. Recent ontdekte Richard de Afro-Cubaanse muziek\, onder andere resulterend in het album Mandekan Cubano. In Cubaan Alfredo Rodríguez vond hij zijn gedroomde partner\, een pianist en arrangeur die elke muziekstijl kan laten vlammen. \nAlfredo Rodríguez was als kind al idolaat van muziek en het allerliefst wilde hij drummer worden. Maar om op het conservatorium toegelaten te worden\, koos hij toch voor de piano. Een goede keuze\, want de Cubaan ontwikkelde zich al op jonge leeftijd tot een elegante\, maar ook explosieve virtuoze pianist en behoorde al snel tot de besten van zijn generatie. Een uitnodiging voor het prestigieuze jazzfestival in Montreux\, waar hij Quincy Jones ontmoet\, blijkt zijn doorbraak. In 2009 vlucht Rodríguez naar de Verenigde Staten\, waar hij politiek asiel krijgt en sindsdien resideert. In de afgelopen jaren bracht hij vijf ijzersterke albums uit\, waarvan de laatste in duo met meesterpercussionist Pedrito Martinez. \nPedrito Martinez is geboren en opgegroeid in Havana. Sinds hij in 1998 naar New York is verhuisd\, heeft hij de percussie- en jazzwereld veroverd. Hij heeft albums opgenomen en opgetreden met artiesten als Sting\, Paul Simon\, Bruce Springsteen en Wynton Marsalis en heeft zijn eigen combo\, The Pedrito Martinez Group.\n____________________________ \nBEZETTING\nRichard Bona – bas\, zang\nAlfredo Rodríguez – piano\, keyboards\, zang\nPedrito Martinez – drums\n____________________________ \nINFO\nZondag 1 maart\nAanvang: 20:30\nPrijs: € 28\nTickets en meer info: http://bit.ly/bona-rodriguez-1mrt
URL:https://afrikalinks.nl/evenementen/richard-bona-met-alfredo-rodriguez-pedrito-martinez-sold-out/
LOCATION:LantarenVenster\, Otto Reuchlinweg 996\, Rotterdam\, 3072 MD\, NL
CATEGORIES:Concerten
ATTACH;FMTTYPE=image/jpeg:https://afrikalinks.nl/wp-content/uploads/2020/02/366982_image_84139167_2833975346625920_5823270548595015680_o.jpg
END:VEVENT
END:VCALENDAR