BEGIN:VCALENDAR
VERSION:2.0
PRODID:-//Afrikalinks - ECPv6.15.20//NONSGML v1.0//EN
CALSCALE:GREGORIAN
METHOD:PUBLISH
X-ORIGINAL-URL:https://afrikalinks.nl
X-WR-CALDESC:Evenementen voor Afrikalinks
REFRESH-INTERVAL;VALUE=DURATION:PT1H
X-Robots-Tag:noindex
X-PUBLISHED-TTL:PT1H
BEGIN:VTIMEZONE
TZID:Europe/Amsterdam
BEGIN:DAYLIGHT
TZOFFSETFROM:+0100
TZOFFSETTO:+0200
TZNAME:CEST
DTSTART:20190331T010000
END:DAYLIGHT
BEGIN:STANDARD
TZOFFSETFROM:+0200
TZOFFSETTO:+0100
TZNAME:CET
DTSTART:20191027T010000
END:STANDARD
BEGIN:DAYLIGHT
TZOFFSETFROM:+0100
TZOFFSETTO:+0200
TZNAME:CEST
DTSTART:20200329T010000
END:DAYLIGHT
BEGIN:STANDARD
TZOFFSETFROM:+0200
TZOFFSETTO:+0100
TZNAME:CET
DTSTART:20201025T010000
END:STANDARD
BEGIN:DAYLIGHT
TZOFFSETFROM:+0100
TZOFFSETTO:+0200
TZNAME:CEST
DTSTART:20210328T010000
END:DAYLIGHT
BEGIN:STANDARD
TZOFFSETFROM:+0200
TZOFFSETTO:+0100
TZNAME:CET
DTSTART:20211031T010000
END:STANDARD
END:VTIMEZONE
BEGIN:VEVENT
DTSTART;TZID=Europe/Amsterdam:20200222T233000
DTEND;TZID=Europe/Amsterdam:20200223T060000
DTSTAMP:20260422T043636
CREATED:20200207T101128Z
LAST-MODIFIED:20200207T101128Z
UID:2958-1582414200-1582437600@afrikalinks.nl
SUMMARY:NAIRA MARLEY ✘ DYOUKES ✘ SAT 22ND FEB
DESCRIPTION:▬▬▬▬ DYOUKES & GOLDMINE PRESENT ▬▬▬▬  \nNaira Marley\, the nigerian superstar\, is coming to the NR. 1 Afro club on February 22ND for a legendary live show. First time ever in town !\n#MARLIANS #AFROISTHENEWHIPHOP \n▬▬▬▬ SOUNDS BY NAIRA MARLEY ▬▬▬▬ \nNAIRA MARLEY – Soapy ?\n> https://youtu.be/_Q6Rixmvujc \nNAIRA MARLEY – Pxta ?\n> https://youtu.be/gmdVFsUVPfk \nNAIRA MARLEY – Mafo ?\n> https://youtu.be/3nhO6b1XD2s \nNAIRA MARLEY – Opotoyi ?\n> https://youtu.be/3nhO6b1XD2s \nNAIRA MARLEY – Tesumole ?\n> https://youtu.be/8-f24T4gfr8 \n▬▬▬▬ VIP & TABLE BOOKING ▬▬▬▬ \n+32 495 38 91 77 or Loick Kafu on Messenger\n+32 496 30 88 30 or Murph Mdg on Messenger\n+32 484 72 44 31 or Berthold Nsb on Messenger \n▬▬▬▬ SOUNDS BY ▬▬▬▬ \nBeba Storm\nBelgium ??\nDyoukes resident \nSaidou\nBelgium ??\nKultuur  \nAbena\nBelgium ??  \n▬▬▬▬ LOCATION ▬▬▬▬\nDyoukes • Doors Opening : 23:30\ninfo@dyoukes.be for enquires.\n18 Rue Duquesnoy\, 1000 Brussels\n#AFROISTHENEWHIPHOP
URL:https://afrikalinks.nl/evenementen/naira-marley-%e2%9c%98-dyoukes-%e2%9c%98-sat-22nd-feb/
LOCATION:Dyoukes\, Rue Duquesnoy\, 18\, Brussels\, 1000\, BE
CATEGORIES:Concerten
ATTACH;FMTTYPE=image/jpeg:https://afrikalinks.nl/wp-content/uploads/2020/02/2958_image_84237801_2658585050924310_4464198855822409728_n.jpg
END:VEVENT
END:VCALENDAR