BEGIN:VCALENDAR
VERSION:2.0
PRODID:-//Afrikalinks - ECPv6.15.20//NONSGML v1.0//EN
CALSCALE:GREGORIAN
METHOD:PUBLISH
X-WR-CALNAME:Afrikalinks
X-ORIGINAL-URL:https://afrikalinks.nl
X-WR-CALDESC:Evenementen voor Afrikalinks
REFRESH-INTERVAL;VALUE=DURATION:PT1H
X-Robots-Tag:noindex
X-PUBLISHED-TTL:PT1H
BEGIN:VTIMEZONE
TZID:Europe/Amsterdam
BEGIN:DAYLIGHT
TZOFFSETFROM:+0100
TZOFFSETTO:+0200
TZNAME:CEST
DTSTART:20190331T010000
END:DAYLIGHT
BEGIN:STANDARD
TZOFFSETFROM:+0200
TZOFFSETTO:+0100
TZNAME:CET
DTSTART:20191027T010000
END:STANDARD
BEGIN:DAYLIGHT
TZOFFSETFROM:+0100
TZOFFSETTO:+0200
TZNAME:CEST
DTSTART:20200329T010000
END:DAYLIGHT
BEGIN:STANDARD
TZOFFSETFROM:+0200
TZOFFSETTO:+0100
TZNAME:CET
DTSTART:20201025T010000
END:STANDARD
BEGIN:DAYLIGHT
TZOFFSETFROM:+0100
TZOFFSETTO:+0200
TZNAME:CEST
DTSTART:20210328T010000
END:DAYLIGHT
BEGIN:STANDARD
TZOFFSETFROM:+0200
TZOFFSETTO:+0100
TZNAME:CET
DTSTART:20211031T010000
END:STANDARD
END:VTIMEZONE
BEGIN:VEVENT
DTSTART;TZID=Europe/Amsterdam:20200217T200000
DTEND;TZID=Europe/Amsterdam:20200217T213000
DTSTAMP:20260422T043541
CREATED:20200210T161233Z
LAST-MODIFIED:20200210T161233Z
UID:3857-1581969600-1581975000@afrikalinks.nl
SUMMARY:Kirina
DESCRIPTION:“Een verbluffende voorstelling die rituele en extatische dans combineerde met voortstuwende muziek en een bezwerend verhaal.” (The New York Times) \nKirina is voor West-Afrika wat Waterloo is voor Europa: in het dorpje in Guinee vond een veldslag plaats die het continent zou veranderen. Geïnspireerd door deze historische gebeurtenis\, Griekse tragedies en Afrikaanse mythes\, maakte Serge Aimé Coulibaly ‘Kirina’\, een dansvoorstelling met een bevrijdende energie! Met teksten van de Senegalese auteur Felwine Sarr en muziek van de Malinese zangeres Rokia Traoré.  \n‘Kirina’ gaat over mensen op drift\, maar vooral is het een bruisende voorstelling vol hoop en vertrouwen in de veerkracht van mensen.  \n———————————————————————-\nfiguranten gezocht\nWij zoeken 30-40 figuranten voor deze voorstelling en we nodigen je graag hiervoor uit! Wij bieden je als dank 1 vrijkaart per persoon.   \naanwezigheid\nWij vragen je om op zondag 16-1 te repeteren en op maandag 17-1 aanwezig te zijn bij de repetitie en voorstelling.\nGa er voor nu vanuit dat je voor zowel de repetitie als de voorstelling om 17.30 uur in het theater aanwezig moet zijn. Je kan je melden bij de receptie. Na de voorstelling en repetitie ben je tussen 21.30-22.00 uur klaar. Je kan je eigen kleren dragen (donker en lang).  Na de repetitie worden de kostuums gepast\, daardoor kan je iets later klaar zijn. Als dit niet uitkomt\, dan kan je de volgende dag eerder aanwezig zijn. \neisen\n– Leeftijd: tussen 13 en 80 jaar.\n– Je spreekt Nederlands of Engels.\n– Danservaring is niet nodig.\n– Je moet (in rustig tempo) 60 minuten kunnen lopen zonder te stoppen.\n– We zijn op zoek naar een afspiegeling van onze maatschappij als het gaat om leeftijd\, gender en achtergrond.\n– Je bent op alle data beschikbaar.\n– Als je nog geen 18 jaar bent\, dan hebben wij toestemming van je ouder(s) nodig. \naanmelden\nStuur een mailtje naar figurant@baasbank-vos.nl\, ook bij vragen.\nO.v.v.: Naam / Leeftijd / E-mailadres / Telefoonnummer / Culturele achtergrond / eventuele bijzonderheden.\nAls je wil mag je een foto meesturen.\nDit is je kans om onderdeel te zijn van een prachtige voorstelling\, we hopen op je aanmelding!\nIs het niets voor jou\, maar ken je wel iemand die hier graag aan mee zou werken? Stuur deze informatie gerust door.
URL:https://afrikalinks.nl/evenementen/kirina/
LOCATION:Stadsschouwburg Utrecht\, Lucasbolwerk 24\, Utrecht\, 3512 EJ\, NL
CATEGORIES:Concerten
ATTACH;FMTTYPE=image/jpeg:https://afrikalinks.nl/wp-content/uploads/2020/02/3857_image_76914261_3253141864760232_3608296437340700672_n.jpg
END:VEVENT
END:VCALENDAR