BEGIN:VCALENDAR
VERSION:2.0
PRODID:-//Afrikalinks - ECPv6.15.20//NONSGML v1.0//EN
CALSCALE:GREGORIAN
METHOD:PUBLISH
X-ORIGINAL-URL:https://afrikalinks.nl
X-WR-CALDESC:Evenementen voor Afrikalinks
REFRESH-INTERVAL;VALUE=DURATION:PT1H
X-Robots-Tag:noindex
X-PUBLISHED-TTL:PT1H
BEGIN:VTIMEZONE
TZID:Europe/Amsterdam
BEGIN:DAYLIGHT
TZOFFSETFROM:+0100
TZOFFSETTO:+0200
TZNAME:CEST
DTSTART:20190331T010000
END:DAYLIGHT
BEGIN:STANDARD
TZOFFSETFROM:+0200
TZOFFSETTO:+0100
TZNAME:CET
DTSTART:20191027T010000
END:STANDARD
BEGIN:DAYLIGHT
TZOFFSETFROM:+0100
TZOFFSETTO:+0200
TZNAME:CEST
DTSTART:20200329T010000
END:DAYLIGHT
BEGIN:STANDARD
TZOFFSETFROM:+0200
TZOFFSETTO:+0100
TZNAME:CET
DTSTART:20201025T010000
END:STANDARD
BEGIN:DAYLIGHT
TZOFFSETFROM:+0100
TZOFFSETTO:+0200
TZNAME:CEST
DTSTART:20210328T010000
END:DAYLIGHT
BEGIN:STANDARD
TZOFFSETFROM:+0200
TZOFFSETTO:+0100
TZNAME:CET
DTSTART:20211031T010000
END:STANDARD
END:VTIMEZONE
BEGIN:VEVENT
DTSTART;TZID=Europe/Amsterdam:20200215T200000
DTEND;TZID=Europe/Amsterdam:20200215T220000
DTSTAMP:20260422T043633
CREATED:20200215T171220Z
LAST-MODIFIED:20200215T171220Z
UID:4186-1581796800-1581804000@afrikalinks.nl
SUMMARY:The Cesaria Evora Orchestra Ft. Lura\, Lucibela & Elida Almeida
DESCRIPTION:Hommage aan Cesaria Evora \nDe grote Kaapverdische zangeres Cesaria Evora overleed op 17 december 2011. In 2012 kwamen duizenden mensen bij elkaar om haar te eren in een reeks van memorabele concerten. Na afloop van deze succesvolle concertreeks beslisten de muzikanten van Cesaria om haar repertoire in leven te houden.\nZo vormden Khaly (piano)\, Totinho (saxofoon)\, Miroca (percussie)\, Zé Paris (bas) en enkele anderen het Cesaria Evora Orchestra. Met hen vertolken zangeressen Lura\, Elida Almeida en Lucibela – drie sterren uit de nieuwe generatie Kaapverdische muziek – de songs die Cesaria beroemd maakte. Een virtuoos eerbetoon aan een unieke performer.
URL:https://afrikalinks.nl/evenementen/the-cesaria-evora-orchestra-ft-lura-lucibela-elida-almeida/
LOCATION:Cultuurcentrum Belgica\, Kerkstraat 24\, Dendermonde\, 9200\, BE
CATEGORIES:Concerten
ATTACH;FMTTYPE=image/jpeg:https://afrikalinks.nl/wp-content/uploads/2020/02/4186_image_83215146_2799256970130401_6220083719533756416_o.jpg
END:VEVENT
END:VCALENDAR