BEGIN:VCALENDAR
VERSION:2.0
PRODID:-//Afrikalinks - ECPv6.15.20//NONSGML v1.0//EN
CALSCALE:GREGORIAN
METHOD:PUBLISH
X-WR-CALNAME:Afrikalinks
X-ORIGINAL-URL:https://afrikalinks.nl
X-WR-CALDESC:Evenementen voor Afrikalinks
REFRESH-INTERVAL;VALUE=DURATION:PT1H
X-Robots-Tag:noindex
X-PUBLISHED-TTL:PT1H
BEGIN:VTIMEZONE
TZID:Europe/Amsterdam
BEGIN:DAYLIGHT
TZOFFSETFROM:+0100
TZOFFSETTO:+0200
TZNAME:CEST
DTSTART:20190331T010000
END:DAYLIGHT
BEGIN:STANDARD
TZOFFSETFROM:+0200
TZOFFSETTO:+0100
TZNAME:CET
DTSTART:20191027T010000
END:STANDARD
BEGIN:DAYLIGHT
TZOFFSETFROM:+0100
TZOFFSETTO:+0200
TZNAME:CEST
DTSTART:20200329T010000
END:DAYLIGHT
BEGIN:STANDARD
TZOFFSETFROM:+0200
TZOFFSETTO:+0100
TZNAME:CET
DTSTART:20201025T010000
END:STANDARD
BEGIN:DAYLIGHT
TZOFFSETFROM:+0100
TZOFFSETTO:+0200
TZNAME:CEST
DTSTART:20210328T010000
END:DAYLIGHT
BEGIN:STANDARD
TZOFFSETFROM:+0200
TZOFFSETTO:+0100
TZNAME:CET
DTSTART:20211031T010000
END:STANDARD
END:VTIMEZONE
BEGIN:VEVENT
DTSTART;TZID=Europe/Amsterdam:20200214T210000
DTEND;TZID=Europe/Amsterdam:20200214T223000
DTSTAMP:20260422T043622
CREATED:20200208T170043Z
LAST-MODIFIED:20200208T170043Z
UID:3828-1581714000-1581719400@afrikalinks.nl
SUMMARY:Nahawa Doumbia at Korzo
DESCRIPTION:Ritmisch en verstild\, bijna meditatief\, zo klinkt de akoestische muziek die de krachtige stem van Nahawa Doumbia draagt. Nadat de West-Afrikaanse zangeres in de jaren tachtig ontdekt werd\, oogstte ze samen met gitarist N’Gou Bagayoko\, haar echtgenoot\, decennialang veel succes. Ze nam moderne en traditionele muziek op uit Wassoulou – het gebied waar ook Oumou Sangaré vandaan komt. Het is een behoorlijke tijd stil geweest rond haar\, totdat het label Awesome Tapes From Africa een van haar allereerste cassettes ontdekte en heruitgaf. Sindsdien klinkt haar indringende stem weer op de internationale podia.
URL:https://afrikalinks.nl/evenementen/nahawa-doumbia-at-korzo/
LOCATION:Korzo\, Prinsestraat 42\, The Hague\, 2513 CE\, NL
CATEGORIES:Concerten
ATTACH;FMTTYPE=image/jpeg:https://afrikalinks.nl/wp-content/uploads/2020/02/3828_image_82511344_2598623020233644_8097425186019606528_o.jpg
END:VEVENT
END:VCALENDAR