BEGIN:VCALENDAR
VERSION:2.0
PRODID:-//Afrikalinks - ECPv6.15.20//NONSGML v1.0//EN
CALSCALE:GREGORIAN
METHOD:PUBLISH
X-ORIGINAL-URL:https://afrikalinks.nl
X-WR-CALDESC:Evenementen voor Afrikalinks
REFRESH-INTERVAL;VALUE=DURATION:PT1H
X-Robots-Tag:noindex
X-PUBLISHED-TTL:PT1H
BEGIN:VTIMEZONE
TZID:Europe/Amsterdam
BEGIN:DAYLIGHT
TZOFFSETFROM:+0100
TZOFFSETTO:+0200
TZNAME:CEST
DTSTART:20190331T010000
END:DAYLIGHT
BEGIN:STANDARD
TZOFFSETFROM:+0200
TZOFFSETTO:+0100
TZNAME:CET
DTSTART:20191027T010000
END:STANDARD
BEGIN:DAYLIGHT
TZOFFSETFROM:+0100
TZOFFSETTO:+0200
TZNAME:CEST
DTSTART:20200329T010000
END:DAYLIGHT
BEGIN:STANDARD
TZOFFSETFROM:+0200
TZOFFSETTO:+0100
TZNAME:CET
DTSTART:20201025T010000
END:STANDARD
BEGIN:DAYLIGHT
TZOFFSETFROM:+0100
TZOFFSETTO:+0200
TZNAME:CEST
DTSTART:20210328T010000
END:DAYLIGHT
BEGIN:STANDARD
TZOFFSETFROM:+0200
TZOFFSETTO:+0100
TZNAME:CET
DTSTART:20211031T010000
END:STANDARD
END:VTIMEZONE
BEGIN:VEVENT
DTSTART;TZID=Europe/Amsterdam:20200213T200000
DTEND;TZID=Europe/Amsterdam:20200213T230000
DTSTAMP:20260422T043635
CREATED:20200211T085158Z
LAST-MODIFIED:20200211T085158Z
UID:3947-1581624000-1581634800@afrikalinks.nl
SUMMARY:Hommage Cesária Évora
DESCRIPTION:Fenomeen Cesária Évora overleed op 17 december 2011. Een jaar later eerden haar muzikanten\, bijgestaan door enkele van de grootste stemmen uit de wereldmuziek\, haar immense talent. Na afloop van deze succesvolle concertreeks beslisten de muzikanten om haar repertoire in leven te houden en het Cesária Évora Orchestra op te richten. \nSamen met deze straffe liveband vertolken zangeressen Lura\, Elida Almeida en Lucibela – drie sterren uit de nieuwe generatie Kaapverdische muzikanten – de songs die Cesária beroemd maakten. Een virtuoos eerbetoon aan een unieke zangeres.
URL:https://afrikalinks.nl/evenementen/hommage-cesaria-evora/
LOCATION:30CC/Schouwburg\, Bondgenotenlaan 21\, Leuven\, 3000\, BE
CATEGORIES:Concerten
ATTACH;FMTTYPE=image/jpeg:https://afrikalinks.nl/wp-content/uploads/2020/02/3947_image_62357443_10156393186185872_4688331749933973504_o.jpg
END:VEVENT
END:VCALENDAR